﻿BEGIN:VCALENDAR
VERSION:2.0
PRODID:-//MFTau Kapucyni - ECPv5.1.2//NONSGML v1.0//EN
CALSCALE:GREGORIAN
METHOD:PUBLISH
X-WR-CALNAME:MFTau Kapucyni
X-ORIGINAL-URL:https://mftau.pl
X-WR-CALDESC:Wydarzenia na MFTau Kapucyni
BEGIN:VTIMEZONE
TZID:Europe/Warsaw
BEGIN:DAYLIGHT
TZOFFSETFROM:+0100
TZOFFSETTO:+0200
TZNAME:CEST
DTSTART:20230326T010000
END:DAYLIGHT
BEGIN:STANDARD
TZOFFSETFROM:+0200
TZOFFSETTO:+0100
TZNAME:CET
DTSTART:20231029T010000
END:STANDARD
END:VTIMEZONE
BEGIN:VEVENT
DTSTART;TZID=Europe/Warsaw:20230803T170000
DTEND;TZID=Europe/Warsaw:20230811T120000
DTSTAMP:20260421T135326
CREATED:20230315T221135Z
LAST-MODIFIED:20230418T165048Z
UID:4667-1691082000-1691755200@mftau.pl
SUMMARY:Poggio Bustone 2
DESCRIPTION:W Poggio Bustone św. Franciszek otrzymał zapewnienie odpuszczenia grzechów i wzrostu liczby braci. Tradycja tego miasta mówi też\, że przechodząc tamtędy pozdrawiał wszystkich słowami: –  Dzień Dobry\, dobrzy ludzie! Dumni mieszkańcy\, do dziś zachowują to w swoim zwyczaju\, kiedy w uroczystość św. Franciszka wysłannik zarządu miasta idzie z bębnem od domu do domu i powtarza pozdrowienie Świętego. \nEtap oczyszczenia – treścią tych rekolekcji formacyjnych jest Radosna pokuta. Prowadzi on do pogłębienia sakramentów uzdrowienia: pokuty i namaszczenia chorych „Czyńcie pokutę… bo wkrótce umrzemy„. \nJak się zapisać?\nZaliczkę w wysokości 150zł należy wysłać na numer konta Referatu MF Tau (dane do przelewu). W tytule wpisz POGGIO BUSTONE 2 oraz swoje imię i nazwisko. \n\nRozpoczynamy o godz. 17:00\nWarto jednak przyjechać trochę wcześniej\, aby się zakwaterować.\nCo zabrać ze sobą?\nZ pewnością będzie Ci potrzebne: Pismo Święte\, śpiwór\, kurtka przeciwdeszczowa\, nakrycie głowy\, wygodne buty\, coś ciepłego do ubrania i odświętny strój. \nPamiętaj o legitymacji szkolnej lub dowodzie osobistym.\nJeżeli nie masz ukończonych 18 lat – musisz mieć podpisaną zgodę od rodzica/opiekuna prawnego (formularz do pobrania tutaj). \nPrzypomnienie: \n\nPosługujący na rekolekcjach zaczynają je dzień wcześniej!\n \nUWAGA!! Proszę nie zabierać ze sobą mp3\, mp4\, iPod’ów\, laptopów i innych „przeszkadzaczy”. Usilnie zachęcamy do przeżycia tych rekolekcji bez komórki. Na każdym turnusie będzie podany telefon kontaktowy do Lidera rekolekcji\, na który w sytuacjach nadzwyczajnych będzie można telefonować. Zachęcamy do całkowitego wyciszenia się w tym szczególnym czasie. \n
URL:https://mftau.pl/wydarzenie/poggio-bustone-2-2/
LOCATION:Szczawa\, Szczawa 274\, Szczawa\, małopolskie\, 34-607\, Poland
CATEGORIES:Dla członków MFTau
END:VEVENT
END:VCALENDAR