﻿BEGIN:VCALENDAR
VERSION:2.0
PRODID:-//MFTau Kapucyni - ECPv5.1.2//NONSGML v1.0//EN
CALSCALE:GREGORIAN
METHOD:PUBLISH
X-WR-CALNAME:MFTau Kapucyni
X-ORIGINAL-URL:https://mftau.pl
X-WR-CALDESC:Wydarzenia na MFTau Kapucyni
BEGIN:VTIMEZONE
TZID:Europe/Warsaw
BEGIN:DAYLIGHT
TZOFFSETFROM:+0100
TZOFFSETTO:+0200
TZNAME:CEST
DTSTART:20230326T010000
END:DAYLIGHT
BEGIN:STANDARD
TZOFFSETFROM:+0200
TZOFFSETTO:+0100
TZNAME:CET
DTSTART:20231029T010000
END:STANDARD
END:VTIMEZONE
BEGIN:VEVENT
DTSTART;TZID=Europe/Warsaw:20231103T180000
DTEND;TZID=Europe/Warsaw:20231105T113000
DTSTAMP:20260421T084208
CREATED:20230920T203616Z
LAST-MODIFIED:20230928T065506Z
UID:4736-1699034400-1699183800@mftau.pl
SUMMARY:Celle di Corona - Poznań
DESCRIPTION:Celle di Cortona – coroczny\, jesienny\, regionalny dzień skupienia dla wspólnot lokalnych MF Tau\, singli MF Tau oraz dla sympatyków MF Tau. \nKoniecznie zabierz: Pismo Święte\, śpiwór\, prześcieradło i notatnik. \nKoszt: 95 zł \nJak się zapisać?\nZgłoś to swojemu liderowi lub napisz maila na rada@mftau.pl. \n
URL:https://mftau.pl/wydarzenie/celle-di-corona-puszczykowo/
LOCATION:Dom zgromadzenia sióstr Serafitek (Poznań)\, Świętego Rocha 13\, Poznań\, Polska
CATEGORIES:Dla wszystkich chętnych pow. 15 r.ż.
END:VEVENT
END:VCALENDAR